BEGIN:VCALENDAR
VERSION:2.0
PRODID:-//Oldtimertreffen Untersiemau - ECPv6.7.0//NONSGML v1.0//EN
CALSCALE:GREGORIAN
METHOD:PUBLISH
X-ORIGINAL-URL:https://oldtimertreffen-untersiemau.de
X-WR-CALDESC:Veranstaltungen für Oldtimertreffen Untersiemau
REFRESH-INTERVAL;VALUE=DURATION:PT1H
X-Robots-Tag:noindex
X-PUBLISHED-TTL:PT1H
BEGIN:VTIMEZONE
TZID:Europe/Berlin
BEGIN:DAYLIGHT
TZOFFSETFROM:+0100
TZOFFSETTO:+0200
TZNAME:CEST
DTSTART:20250330T010000
END:DAYLIGHT
BEGIN:STANDARD
TZOFFSETFROM:+0200
TZOFFSETTO:+0100
TZNAME:CET
DTSTART:20251026T010000
END:STANDARD
END:VTIMEZONE
BEGIN:VEVENT
DTSTART;TZID=Europe/Berlin:20251012T100000
DTEND;TZID=Europe/Berlin:20251012T170000
DTSTAMP:20260424T012505
CREATED:20250212T081719Z
LAST-MODIFIED:20250212T081719Z
UID:1716-1760263200-1760288400@oldtimertreffen-untersiemau.de
SUMMARY:Oldtimertreffen Untersiemau
DESCRIPTION:
URL:https://oldtimertreffen-untersiemau.de/event/oldtimertreffen-untersiemau/
LOCATION:Untersiemau\, Parkplatz Fa. Max Winzer\, Untersiemau\, Bayern\, 96253\, Deutschland
END:VEVENT
BEGIN:VEVENT
DTSTART;TZID=Europe/Berlin:20250803T090000
DTEND;TZID=Europe/Berlin:20250803T170000
DTSTAMP:20260424T012505
CREATED:20250616T063245Z
LAST-MODIFIED:20250616T063245Z
UID:2161-1754211600-1754240400@oldtimertreffen-untersiemau.de
SUMMARY:Oldtimertreffen Neustadt b. Coburg
DESCRIPTION:mit Prämierungen
URL:https://oldtimertreffen-untersiemau.de/event/oldtimertreffen-neustadt-b-coburg/
LOCATION:Neustadt/Coburg\, Franz-Schneider-Straße 1\, Neustadt\, Bayern\, 96465\, Deutschland
END:VEVENT
BEGIN:VEVENT
DTSTART;TZID=Europe/Berlin:20250706T100000
DTEND;TZID=Europe/Berlin:20250706T170000
DTSTAMP:20260424T012505
CREATED:20250616T062810Z
LAST-MODIFIED:20250616T062810Z
UID:2158-1751796000-1751821200@oldtimertreffen-untersiemau.de
SUMMARY:Prügler Kerwa + Oldtimertreffen
DESCRIPTION:675 Jahre Prügel Jubiläums-Edition\nAuf geht s zur Prügler Kerwa mit Oldtimertreffen \nSonntag 06.07.2025\nab 10 Uhr Oldtimertreffen\nFrühschoppen\nLivemusik – Oldies mit Zuzwait\nKaffee / Kuchen \nAuf euer kommen freut sich die Freiwillige Feuerwehr und die Garten- und Naturfreunde Prügel \n– Ort: Kulsturstadel Prügel\,96264 Altenkunstadt\n– Veranstalter: Freiwillige Feuerwehr Prügel \n\nVeranstaltungsort: Kulturstadel Prügel\, Am Dorfweiher\, 96264 Altenkunstadt
URL:https://oldtimertreffen-untersiemau.de/event/pruegler-kerwa-oldtimertreffen/
LOCATION:96264 Altenkunstadt\, Am Dorfweiher
END:VEVENT
BEGIN:VEVENT
DTSTART;TZID=Europe/Berlin:20250705T080000
DTEND;TZID=Europe/Berlin:20250706T170000
DTSTAMP:20260424T012505
CREATED:20250219T133322Z
LAST-MODIFIED:20250219T133322Z
UID:1739-1751702400-1751821200@oldtimertreffen-untersiemau.de
SUMMARY:Fladungen Classics 2025
DESCRIPTION:Liebe Oldtimer-Freunde\, \nvom 05. – 06. Juli 2025 starten wir wieder gemeinsam in eine unvergessliche Zeitreise in die 50er und 60er Jahre. Freuen Sie sich auf besondere Attraktionen\, Oldtimer\, Künstler und vieles mehr. \nDie Anmeldung für Oldtimer-Freunde\, die ihre Lieblinge präsentieren möchten\, Oldtimer-Camper und Händler ist vom 28. Januar bis 05. Juni 2025 möglich.
URL:https://oldtimertreffen-untersiemau.de/event/fladungen-classics-2025/
LOCATION:Fladungen / Rhön
END:VEVENT
BEGIN:VEVENT
DTSTART;TZID=Europe/Berlin:20250701T160000
DTEND;TZID=Europe/Berlin:20250701T170000
DTSTAMP:20260424T012505
CREATED:20250219T072853Z
LAST-MODIFIED:20250219T072853Z
UID:1736-1751385600-1751389200@oldtimertreffen-untersiemau.de
SUMMARY:Oldtimertreffen Fa. Weyermann / Bamberg
DESCRIPTION:
URL:https://oldtimertreffen-untersiemau.de/event/oldtimertreffen-fa-weyermann-bamberg/
LOCATION:Bamberg\, Brennerstraße 17-19\, Bamberg\, Bayern\, 96052\, Deutschland
END:VEVENT
BEGIN:VEVENT
DTSTART;TZID=Europe/Berlin:20250622T090000
DTEND;TZID=Europe/Berlin:20250622T170000
DTSTAMP:20260424T012505
CREATED:20250219T072513Z
LAST-MODIFIED:20250219T072513Z
UID:1734-1750582800-1750611600@oldtimertreffen-untersiemau.de
SUMMARY:Oldtimertreffen Reundorf
DESCRIPTION:
URL:https://oldtimertreffen-untersiemau.de/event/oldtimertreffen-reundorf/
LOCATION:Reundorf (LIF)
END:VEVENT
BEGIN:VEVENT
DTSTART;TZID=Europe/Berlin:20250622T090000
DTEND;TZID=Europe/Berlin:20250622T170000
DTSTAMP:20260424T012505
CREATED:20250219T072359Z
LAST-MODIFIED:20250219T072359Z
UID:1732-1750582800-1750611600@oldtimertreffen-untersiemau.de
SUMMARY:Oldtimertreffen Kulmbach
DESCRIPTION:Mönchshof Brauerei (Zufahrt über Hofer Straße) \n 
URL:https://oldtimertreffen-untersiemau.de/event/oldtimertreffen-kulmbach/
LOCATION:Kulmbach\, Möchshofgelände
END:VEVENT
BEGIN:VEVENT
DTSTART;TZID=Europe/Berlin:20250621T090000
DTEND;TZID=Europe/Berlin:20250621T170000
DTSTAMP:20260424T012505
CREATED:20250219T072245Z
LAST-MODIFIED:20250219T072245Z
UID:1729-1750496400-1750525200@oldtimertreffen-untersiemau.de
SUMMARY:Oldtimertreffen Seehöflein / Bamberg
DESCRIPTION:
URL:https://oldtimertreffen-untersiemau.de/event/oldtimertreffen-seehoeflein-bamberg/
LOCATION:Seehöflein / Bamberg
END:VEVENT
BEGIN:VEVENT
DTSTART;TZID=Europe/Berlin:20250615T090000
DTEND;TZID=Europe/Berlin:20250615T170000
DTSTAMP:20260424T012505
CREATED:20250219T072026Z
LAST-MODIFIED:20250219T072026Z
UID:1727-1749978000-1750006800@oldtimertreffen-untersiemau.de
SUMMARY:Oldtimer- und Bulldogtreffen Michelau mit Schützenfest
DESCRIPTION:Oldtimer\, Youngtimer\, Bulldog\, historische Blaulichtfahrzeuge \nSchützenplatz/Mainfeldhalle/Tennisplätze \n 
URL:https://oldtimertreffen-untersiemau.de/event/oldtimer-und-bulldogtreffen-michelau-mit-schuetzenfest/
LOCATION:Michelau\, Schützengelände
END:VEVENT
BEGIN:VEVENT
DTSTART;TZID=Europe/Berlin:20250601T110000
DTEND;TZID=Europe/Berlin:20250601T170000
DTSTAMP:20260424T012505
CREATED:20250219T071813Z
LAST-MODIFIED:20250601T144808Z
UID:1725-1748775600-1748797200@oldtimertreffen-untersiemau.de
SUMMARY:Oldtimertreffen Hofheim/Ufr.
DESCRIPTION:mit verkaufsoffenem Sonntag
URL:https://oldtimertreffen-untersiemau.de/event/oldtimertreffen-hofheim-ufr/
LOCATION:Hofheim Innenstadt
END:VEVENT
BEGIN:VEVENT
DTSTART;TZID=Europe/Berlin:20250601T090000
DTEND;TZID=Europe/Berlin:20250601T170000
DTSTAMP:20260424T012505
CREATED:20250219T071307Z
LAST-MODIFIED:20250219T071307Z
UID:1722-1748768400-1748797200@oldtimertreffen-untersiemau.de
SUMMARY:Traktorentreffen Krumbach
DESCRIPTION:
URL:https://oldtimertreffen-untersiemau.de/event/traktorentreffen-krumbach/
LOCATION:Krumbach / Witzmannsberg
END:VEVENT
BEGIN:VEVENT
DTSTART;TZID=Europe/Berlin:20250601T090000
DTEND;TZID=Europe/Berlin:20250601T170000
DTSTAMP:20260424T012505
CREATED:20250219T071054Z
LAST-MODIFIED:20250219T071054Z
UID:1720-1748768400-1748797200@oldtimertreffen-untersiemau.de
SUMMARY:Oldtimertreffen Kronach
DESCRIPTION:Schützenfestplatz ab 9:00 Uhr\,  ab 10:00 Weißwurstfrühstück \nab 11:00 Ausfahrt. \nOhne Anmeldung
URL:https://oldtimertreffen-untersiemau.de/event/oldtimertreffen-kronach/
LOCATION:Kronach\, Schützenplatz
END:VEVENT
BEGIN:VEVENT
DTSTART;TZID=Europe/Berlin:20250518T090000
DTEND;TZID=Europe/Berlin:20250518T170000
DTSTAMP:20260424T012505
CREATED:20250219T070933Z
LAST-MODIFIED:20250219T070933Z
UID:1718-1747558800-1747587600@oldtimertreffen-untersiemau.de
SUMMARY:Oldtimer- und Bulldogtreffen Staffelstein
DESCRIPTION:Beginn 9:00\, Ausfahrt Pkw 12:30\, Ausfahrt Traktoren 13:00 Uhr; \nkeine Anmeldung erforderlich \n 
URL:https://oldtimertreffen-untersiemau.de/event/oldtimer-und-bulldogtreffen-staffelstein/
LOCATION:Bad Staffelstein\, Ulmenstraße 3\, Bad Staffelstein\, Bayern\, 96231\, Deutschland
END:VEVENT
BEGIN:VEVENT
DTSTART;TZID=Europe/Berlin:20250510T080000
DTEND;TZID=Europe/Berlin:20250511T170000
DTSTAMP:20260424T012505
CREATED:20250212T081601Z
LAST-MODIFIED:20250212T081601Z
UID:1714-1746864000-1746982800@oldtimertreffen-untersiemau.de
SUMMARY:Classic Weekend Coburg
DESCRIPTION:Am 10.05.2025 findet die 20. große Oldtimerausfahrt des MSC Coburg e.V. statt. \nDer MSC Coburg e.V. will die „Guten alten Zeiten“ wieder aufleben lassen! \n11 Jahre ist die letzte Ausfahrt des MSC Coburg schon her\, die Pause ist nun vorbei. \nEure Leidenschaft sind Oldtimer? \nDann haben wir genau das richtige Event für euch! \nAuf dem Coburger Schlossplatz\, einer der schönsten Veranstaltungsorte in Oberfranken\, veranstalten wir das Classic Weekend Coburg\, mit Ausfahrt am Samstag und Treffen am Sonntag.
URL:https://oldtimertreffen-untersiemau.de/event/classic-weekend-coburg/
LOCATION:Schlossplatz Coburg\, Schloßplatz\, Coburg\, 96450
END:VEVENT
END:VCALENDAR